BEGIN:VCALENDAR
VERSION:2.0
PRODID:-//Helena Food Share - ECPv6.15.20//NONSGML v1.0//EN
CALSCALE:GREGORIAN
METHOD:PUBLISH
X-WR-CALNAME:Helena Food Share
X-ORIGINAL-URL:https://helenafoodshare.org
X-WR-CALDESC:Events for Helena Food Share
REFRESH-INTERVAL;VALUE=DURATION:PT1H
X-Robots-Tag:noindex
X-PUBLISHED-TTL:PT1H
BEGIN:VTIMEZONE
TZID:America/Denver
BEGIN:DAYLIGHT
TZOFFSETFROM:-0700
TZOFFSETTO:-0600
TZNAME:MDT
DTSTART:20250309T090000
END:DAYLIGHT
BEGIN:STANDARD
TZOFFSETFROM:-0600
TZOFFSETTO:-0700
TZNAME:MST
DTSTART:20251102T080000
END:STANDARD
BEGIN:DAYLIGHT
TZOFFSETFROM:-0700
TZOFFSETTO:-0600
TZNAME:MDT
DTSTART:20260308T090000
END:DAYLIGHT
BEGIN:STANDARD
TZOFFSETFROM:-0600
TZOFFSETTO:-0700
TZNAME:MST
DTSTART:20261101T080000
END:STANDARD
BEGIN:DAYLIGHT
TZOFFSETFROM:-0700
TZOFFSETTO:-0600
TZNAME:MDT
DTSTART:20270314T090000
END:DAYLIGHT
BEGIN:STANDARD
TZOFFSETFROM:-0600
TZOFFSETTO:-0700
TZNAME:MST
DTSTART:20271107T080000
END:STANDARD
END:VTIMEZONE
BEGIN:VEVENT
DTSTART;TZID=America/Denver:20260421T110000
DTEND;TZID=America/Denver:20260421T120000
DTSTAMP:20260424T055905
CREATED:20260407T175842Z
LAST-MODIFIED:20260408T201409Z
UID:10000370-1776769200-1776772800@helenafoodshare.org
SUMMARY:Soap Making Class
DESCRIPTION:This class will explore ways to make your own “clean” soap!  Learn how to make laundry and dishwashing soap using inexpensive ingredients and containers.  Register here.  Class limited to 24.
URL:https://helenafoodshare.org/event/soap-making-class/
LOCATION:MT
CATEGORIES:Community Room Events
ATTACH;FMTTYPE=image/png:https://helenafoodshare.org/wp-content/uploads/2024/09/cropped-Helena-Food-Share-Logo-1.png
END:VEVENT
END:VCALENDAR