BEGIN:VCALENDAR
VERSION:2.0
PRODID:-//Helena Food Share - ECPv6.15.20//NONSGML v1.0//EN
CALSCALE:GREGORIAN
METHOD:PUBLISH
X-WR-CALNAME:Helena Food Share
X-ORIGINAL-URL:https://helenafoodshare.org
X-WR-CALDESC:Events for Helena Food Share
REFRESH-INTERVAL;VALUE=DURATION:PT1H
X-Robots-Tag:noindex
X-PUBLISHED-TTL:PT1H
BEGIN:VTIMEZONE
TZID:America/Denver
BEGIN:DAYLIGHT
TZOFFSETFROM:-0700
TZOFFSETTO:-0600
TZNAME:MDT
DTSTART:20250309T090000
END:DAYLIGHT
BEGIN:STANDARD
TZOFFSETFROM:-0600
TZOFFSETTO:-0700
TZNAME:MST
DTSTART:20251102T080000
END:STANDARD
BEGIN:DAYLIGHT
TZOFFSETFROM:-0700
TZOFFSETTO:-0600
TZNAME:MDT
DTSTART:20260308T090000
END:DAYLIGHT
BEGIN:STANDARD
TZOFFSETFROM:-0600
TZOFFSETTO:-0700
TZNAME:MST
DTSTART:20261101T080000
END:STANDARD
BEGIN:DAYLIGHT
TZOFFSETFROM:-0700
TZOFFSETTO:-0600
TZNAME:MDT
DTSTART:20270314T090000
END:DAYLIGHT
BEGIN:STANDARD
TZOFFSETFROM:-0600
TZOFFSETTO:-0700
TZNAME:MST
DTSTART:20271107T080000
END:STANDARD
END:VTIMEZONE
BEGIN:VEVENT
DTSTART;TZID=America/Denver:20260422T080000
DTEND;TZID=America/Denver:20260424T170000
DTSTAMP:20260424T033543
CREATED:20260422T175837Z
LAST-MODIFIED:20260422T193417Z
UID:10000372-1776844800-1777050000@helenafoodshare.org
SUMMARY:Test Cooking Class
DESCRIPTION:This is a test of our new ticketing system. This class will hold 24 attendees and is open to the community at no charge. To register\, please click on Get Ticket to reserve your space. If you are signing up for more than one person\, please indicate the number of tickets you need. You will receive a confirmation email with details of the class and your ticketing.
URL:https://helenafoodshare.org/event/test-cooking-class/
LOCATION:Community Room\, 1280 Boulder Ave\, Helena\, MT\, 59601\, United States
CATEGORIES:Community Room Events
ATTACH;FMTTYPE=image/png:https://helenafoodshare.org/wp-content/uploads/2026/03/HFS-Logo-CMYK_16x9-scaled.png
END:VEVENT
END:VCALENDAR